BEGIN:VCALENDAR
VERSION:2.0
PRODID:-//Kane County Hospital - ECPv6.15.20//NONSGML v1.0//EN
CALSCALE:GREGORIAN
METHOD:PUBLISH
X-WR-CALNAME:Kane County Hospital
X-ORIGINAL-URL:https://kanecountyhospitalut.gov
X-WR-CALDESC:Events for Kane County Hospital
REFRESH-INTERVAL;VALUE=DURATION:PT1H
X-Robots-Tag:noindex
X-PUBLISHED-TTL:PT1H
BEGIN:VTIMEZONE
TZID:UTC
BEGIN:STANDARD
TZOFFSETFROM:+0000
TZOFFSETTO:+0000
TZNAME:UTC
DTSTART:20250101T000000
END:STANDARD
END:VTIMEZONE
BEGIN:VEVENT
DTSTART;TZID=UTC:20260319T080000
DTEND;TZID=UTC:20260319T170000
DTSTAMP:20260425T040008
CREATED:20231120T200651Z
LAST-MODIFIED:20240312T184002Z
UID:10000392-1773907200-1773939600@kanecountyhospitalut.gov
SUMMARY:General Surgeon
DESCRIPTION:Categories: Orthopedic Surgery\, Specialist Physicians\, Sports Medicine\, SurgeryRotator Cuff RepairView Project\nCategories: SurgeryGeneral SurgeryView Project\nCategories: SurgeryOrthopedic SurgeryView Project
URL:https://kanecountyhospitalut.gov/event/general-surgeon-2/2026-03-19/
CATEGORIES:Recurring,Surgery,Visiting Physicians
ATTACH;FMTTYPE=image/jpeg:https://kanecountyhospitalut.gov/wp-content/uploads/2023/11/dr.-ripley-headshot.jpg
ORGANIZER;CN="KCH Specialty Group":MAILTO:specialtygroup@kchosp.net
END:VEVENT
BEGIN:VEVENT
DTSTART;TZID=UTC:20260320T080000
DTEND;TZID=UTC:20260320T170000
DTSTAMP:20260425T040008
CREATED:20231120T200933Z
LAST-MODIFIED:20240312T184117Z
UID:10000632-1773993600-1774026000@kanecountyhospitalut.gov
SUMMARY:General Surgeon
DESCRIPTION:Categories: Orthopedic Surgery\, Specialist Physicians\, Sports Medicine\, SurgeryRotator Cuff RepairView Project\nCategories: SurgeryGeneral SurgeryView Project\nCategories: SurgeryOrthopedic SurgeryView Project
URL:https://kanecountyhospitalut.gov/event/general-surgeon-4/2026-03-20/
CATEGORIES:Recurring,Surgery,Visiting Physicians
ATTACH;FMTTYPE=image/jpeg:https://kanecountyhospitalut.gov/wp-content/uploads/2023/11/dr.-ripley-headshot-1.jpg
ORGANIZER;CN="KCH Specialty Group":MAILTO:specialtygroup@kchosp.net
END:VEVENT
BEGIN:VEVENT
DTSTART;TZID=UTC:20260326T080000
DTEND;TZID=UTC:20260326T170000
DTSTAMP:20260425T040008
CREATED:20231017T012018Z
LAST-MODIFIED:20251023T174043Z
UID:10000151-1774512000-1774544400@kanecountyhospitalut.gov
SUMMARY:Dr. Hewitt
DESCRIPTION:Categories: Orthopedic Surgery\, Specialist Physicians\, Sports Medicine\, SurgeryRotator Cuff RepairView Project\nCategories: SurgeryGeneral SurgeryView Project\nCategories: SurgeryOrthopedic SurgeryView Project
URL:https://kanecountyhospitalut.gov/event/orthopedic-surgeon/2026-03-26/
CATEGORIES:Recurring,Surgery,Visiting Physicians
ATTACH;FMTTYPE=image/webp:https://kanecountyhospitalut.gov/wp-content/uploads/2023/07/1c6c13_dffc1c4d5d9840209c2123ea2b0292b0mv2.webp
ORGANIZER;CN="KCH Specialty Group":MAILTO:specialtygroup@kchosp.net
END:VEVENT
BEGIN:VEVENT
DTSTART;TZID=UTC:20260409T080000
DTEND;TZID=UTC:20260409T170000
DTSTAMP:20260425T040008
CREATED:20231017T012115Z
LAST-MODIFIED:20251023T173450Z
UID:10000031-1775721600-1775754000@kanecountyhospitalut.gov
SUMMARY:Dr. Hewitt
DESCRIPTION:Categories: Orthopedic Surgery\, Specialist Physicians\, Sports Medicine\, SurgeryRotator Cuff RepairView Project\nCategories: SurgeryGeneral SurgeryView Project\nCategories: SurgeryOrthopedic SurgeryView Project
URL:https://kanecountyhospitalut.gov/event/orthopedic-surgeon-2/2026-04-09/
LOCATION:KCH Specialty Clinic\, 355 Main St\, Kanab\, UT 84741\, Kanab\, UT\, 84741\, United States
CATEGORIES:Recurring,Surgery,Visiting Physicians
ATTACH;FMTTYPE=image/webp:https://kanecountyhospitalut.gov/wp-content/uploads/2023/07/1c6c13_dffc1c4d5d9840209c2123ea2b0292b0mv2.webp
ORGANIZER;CN="KCH Specialty Group":MAILTO:specialtygroup@kchosp.net
END:VEVENT
BEGIN:VEVENT
DTSTART;TZID=UTC:20260416T080000
DTEND;TZID=UTC:20260416T170000
DTSTAMP:20260425T040008
CREATED:20231120T200651Z
LAST-MODIFIED:20240312T184002Z
UID:10000393-1776326400-1776358800@kanecountyhospitalut.gov
SUMMARY:General Surgeon
DESCRIPTION:Categories: Orthopedic Surgery\, Specialist Physicians\, Sports Medicine\, SurgeryRotator Cuff RepairView Project\nCategories: SurgeryGeneral SurgeryView Project\nCategories: SurgeryOrthopedic SurgeryView Project
URL:https://kanecountyhospitalut.gov/event/general-surgeon-2/2026-04-16/
CATEGORIES:Recurring,Surgery,Visiting Physicians
ATTACH;FMTTYPE=image/jpeg:https://kanecountyhospitalut.gov/wp-content/uploads/2023/11/dr.-ripley-headshot.jpg
ORGANIZER;CN="KCH Specialty Group":MAILTO:specialtygroup@kchosp.net
END:VEVENT
BEGIN:VEVENT
DTSTART;TZID=UTC:20260417T080000
DTEND;TZID=UTC:20260417T170000
DTSTAMP:20260425T040008
CREATED:20231120T200933Z
LAST-MODIFIED:20240312T184117Z
UID:10000633-1776412800-1776445200@kanecountyhospitalut.gov
SUMMARY:General Surgeon
DESCRIPTION:Categories: Orthopedic Surgery\, Specialist Physicians\, Sports Medicine\, SurgeryRotator Cuff RepairView Project\nCategories: SurgeryGeneral SurgeryView Project\nCategories: SurgeryOrthopedic SurgeryView Project
URL:https://kanecountyhospitalut.gov/event/general-surgeon-4/2026-04-17/
CATEGORIES:Recurring,Surgery,Visiting Physicians
ATTACH;FMTTYPE=image/jpeg:https://kanecountyhospitalut.gov/wp-content/uploads/2023/11/dr.-ripley-headshot-1.jpg
ORGANIZER;CN="KCH Specialty Group":MAILTO:specialtygroup@kchosp.net
END:VEVENT
BEGIN:VEVENT
DTSTART;TZID=UTC:20260423T080000
DTEND;TZID=UTC:20260423T170000
DTSTAMP:20260425T040008
CREATED:20231017T012018Z
LAST-MODIFIED:20251023T174043Z
UID:10000152-1776931200-1776963600@kanecountyhospitalut.gov
SUMMARY:Dr. Hewitt
DESCRIPTION:Categories: Orthopedic Surgery\, Specialist Physicians\, Sports Medicine\, SurgeryRotator Cuff RepairView Project\nCategories: SurgeryGeneral SurgeryView Project\nCategories: SurgeryOrthopedic SurgeryView Project
URL:https://kanecountyhospitalut.gov/event/orthopedic-surgeon/2026-04-23/
CATEGORIES:Recurring,Surgery,Visiting Physicians
ATTACH;FMTTYPE=image/webp:https://kanecountyhospitalut.gov/wp-content/uploads/2023/07/1c6c13_dffc1c4d5d9840209c2123ea2b0292b0mv2.webp
ORGANIZER;CN="KCH Specialty Group":MAILTO:specialtygroup@kchosp.net
END:VEVENT
BEGIN:VEVENT
DTSTART;TZID=UTC:20260514T080000
DTEND;TZID=UTC:20260514T170000
DTSTAMP:20260425T040008
CREATED:20231017T012115Z
LAST-MODIFIED:20251023T173450Z
UID:10000032-1778745600-1778778000@kanecountyhospitalut.gov
SUMMARY:Dr. Hewitt
DESCRIPTION:Categories: Orthopedic Surgery\, Specialist Physicians\, Sports Medicine\, SurgeryRotator Cuff RepairView Project\nCategories: SurgeryGeneral SurgeryView Project\nCategories: SurgeryOrthopedic SurgeryView Project
URL:https://kanecountyhospitalut.gov/event/orthopedic-surgeon-2/2026-05-14/
LOCATION:KCH Specialty Clinic\, 355 Main St\, Kanab\, UT 84741\, Kanab\, UT\, 84741\, United States
CATEGORIES:Recurring,Surgery,Visiting Physicians
ATTACH;FMTTYPE=image/webp:https://kanecountyhospitalut.gov/wp-content/uploads/2023/07/1c6c13_dffc1c4d5d9840209c2123ea2b0292b0mv2.webp
ORGANIZER;CN="KCH Specialty Group":MAILTO:specialtygroup@kchosp.net
END:VEVENT
BEGIN:VEVENT
DTSTART;TZID=UTC:20260515T080000
DTEND;TZID=UTC:20260515T170000
DTSTAMP:20260425T040008
CREATED:20231120T200933Z
LAST-MODIFIED:20240312T184117Z
UID:10000634-1778832000-1778864400@kanecountyhospitalut.gov
SUMMARY:General Surgeon
DESCRIPTION:Categories: Orthopedic Surgery\, Specialist Physicians\, Sports Medicine\, SurgeryRotator Cuff RepairView Project\nCategories: SurgeryGeneral SurgeryView Project\nCategories: SurgeryOrthopedic SurgeryView Project
URL:https://kanecountyhospitalut.gov/event/general-surgeon-4/2026-05-15/
CATEGORIES:Recurring,Surgery,Visiting Physicians
ATTACH;FMTTYPE=image/jpeg:https://kanecountyhospitalut.gov/wp-content/uploads/2023/11/dr.-ripley-headshot-1.jpg
ORGANIZER;CN="KCH Specialty Group":MAILTO:specialtygroup@kchosp.net
END:VEVENT
BEGIN:VEVENT
DTSTART;TZID=UTC:20260521T080000
DTEND;TZID=UTC:20260521T170000
DTSTAMP:20260425T040008
CREATED:20231120T200651Z
LAST-MODIFIED:20240312T184002Z
UID:10000394-1779350400-1779382800@kanecountyhospitalut.gov
SUMMARY:General Surgeon
DESCRIPTION:Categories: Orthopedic Surgery\, Specialist Physicians\, Sports Medicine\, SurgeryRotator Cuff RepairView Project\nCategories: SurgeryGeneral SurgeryView Project\nCategories: SurgeryOrthopedic SurgeryView Project
URL:https://kanecountyhospitalut.gov/event/general-surgeon-2/2026-05-21/
CATEGORIES:Recurring,Surgery,Visiting Physicians
ATTACH;FMTTYPE=image/jpeg:https://kanecountyhospitalut.gov/wp-content/uploads/2023/11/dr.-ripley-headshot.jpg
ORGANIZER;CN="KCH Specialty Group":MAILTO:specialtygroup@kchosp.net
END:VEVENT
BEGIN:VEVENT
DTSTART;TZID=UTC:20260528T080000
DTEND;TZID=UTC:20260528T170000
DTSTAMP:20260425T040008
CREATED:20231017T012018Z
LAST-MODIFIED:20251023T174043Z
UID:10000153-1779955200-1779987600@kanecountyhospitalut.gov
SUMMARY:Dr. Hewitt
DESCRIPTION:Categories: Orthopedic Surgery\, Specialist Physicians\, Sports Medicine\, SurgeryRotator Cuff RepairView Project\nCategories: SurgeryGeneral SurgeryView Project\nCategories: SurgeryOrthopedic SurgeryView Project
URL:https://kanecountyhospitalut.gov/event/orthopedic-surgeon/2026-05-28/
CATEGORIES:Recurring,Surgery,Visiting Physicians
ATTACH;FMTTYPE=image/webp:https://kanecountyhospitalut.gov/wp-content/uploads/2023/07/1c6c13_dffc1c4d5d9840209c2123ea2b0292b0mv2.webp
ORGANIZER;CN="KCH Specialty Group":MAILTO:specialtygroup@kchosp.net
END:VEVENT
BEGIN:VEVENT
DTSTART;TZID=UTC:20260611T080000
DTEND;TZID=UTC:20260611T170000
DTSTAMP:20260425T040008
CREATED:20231017T012115Z
LAST-MODIFIED:20251023T173450Z
UID:10000033-1781164800-1781197200@kanecountyhospitalut.gov
SUMMARY:Dr. Hewitt
DESCRIPTION:Categories: Orthopedic Surgery\, Specialist Physicians\, Sports Medicine\, SurgeryRotator Cuff RepairView Project\nCategories: SurgeryGeneral SurgeryView Project\nCategories: SurgeryOrthopedic SurgeryView Project
URL:https://kanecountyhospitalut.gov/event/orthopedic-surgeon-2/2026-06-11/
LOCATION:KCH Specialty Clinic\, 355 Main St\, Kanab\, UT 84741\, Kanab\, UT\, 84741\, United States
CATEGORIES:Recurring,Surgery,Visiting Physicians
ATTACH;FMTTYPE=image/webp:https://kanecountyhospitalut.gov/wp-content/uploads/2023/07/1c6c13_dffc1c4d5d9840209c2123ea2b0292b0mv2.webp
ORGANIZER;CN="KCH Specialty Group":MAILTO:specialtygroup@kchosp.net
END:VEVENT
BEGIN:VEVENT
DTSTART;TZID=UTC:20260618T080000
DTEND;TZID=UTC:20260618T170000
DTSTAMP:20260425T040008
CREATED:20231120T200651Z
LAST-MODIFIED:20240312T184002Z
UID:10000395-1781769600-1781802000@kanecountyhospitalut.gov
SUMMARY:General Surgeon
DESCRIPTION:Categories: Orthopedic Surgery\, Specialist Physicians\, Sports Medicine\, SurgeryRotator Cuff RepairView Project\nCategories: SurgeryGeneral SurgeryView Project\nCategories: SurgeryOrthopedic SurgeryView Project
URL:https://kanecountyhospitalut.gov/event/general-surgeon-2/2026-06-18/
CATEGORIES:Recurring,Surgery,Visiting Physicians
ATTACH;FMTTYPE=image/jpeg:https://kanecountyhospitalut.gov/wp-content/uploads/2023/11/dr.-ripley-headshot.jpg
ORGANIZER;CN="KCH Specialty Group":MAILTO:specialtygroup@kchosp.net
END:VEVENT
BEGIN:VEVENT
DTSTART;TZID=UTC:20260619T080000
DTEND;TZID=UTC:20260619T170000
DTSTAMP:20260425T040008
CREATED:20231120T200933Z
LAST-MODIFIED:20240312T184117Z
UID:10000635-1781856000-1781888400@kanecountyhospitalut.gov
SUMMARY:General Surgeon
DESCRIPTION:Categories: Orthopedic Surgery\, Specialist Physicians\, Sports Medicine\, SurgeryRotator Cuff RepairView Project\nCategories: SurgeryGeneral SurgeryView Project\nCategories: SurgeryOrthopedic SurgeryView Project
URL:https://kanecountyhospitalut.gov/event/general-surgeon-4/2026-06-19/
CATEGORIES:Recurring,Surgery,Visiting Physicians
ATTACH;FMTTYPE=image/jpeg:https://kanecountyhospitalut.gov/wp-content/uploads/2023/11/dr.-ripley-headshot-1.jpg
ORGANIZER;CN="KCH Specialty Group":MAILTO:specialtygroup@kchosp.net
END:VEVENT
BEGIN:VEVENT
DTSTART;TZID=UTC:20260625T080000
DTEND;TZID=UTC:20260625T170000
DTSTAMP:20260425T040008
CREATED:20231017T012018Z
LAST-MODIFIED:20251023T174043Z
UID:10000154-1782374400-1782406800@kanecountyhospitalut.gov
SUMMARY:Dr. Hewitt
DESCRIPTION:Categories: Orthopedic Surgery\, Specialist Physicians\, Sports Medicine\, SurgeryRotator Cuff RepairView Project\nCategories: SurgeryGeneral SurgeryView Project\nCategories: SurgeryOrthopedic SurgeryView Project
URL:https://kanecountyhospitalut.gov/event/orthopedic-surgeon/2026-06-25/
CATEGORIES:Recurring,Surgery,Visiting Physicians
ATTACH;FMTTYPE=image/webp:https://kanecountyhospitalut.gov/wp-content/uploads/2023/07/1c6c13_dffc1c4d5d9840209c2123ea2b0292b0mv2.webp
ORGANIZER;CN="KCH Specialty Group":MAILTO:specialtygroup@kchosp.net
END:VEVENT
BEGIN:VEVENT
DTSTART;TZID=UTC:20260709T080000
DTEND;TZID=UTC:20260709T170000
DTSTAMP:20260425T040008
CREATED:20231017T012115Z
LAST-MODIFIED:20251023T173450Z
UID:10000034-1783584000-1783616400@kanecountyhospitalut.gov
SUMMARY:Dr. Hewitt
DESCRIPTION:Categories: Orthopedic Surgery\, Specialist Physicians\, Sports Medicine\, SurgeryRotator Cuff RepairView Project\nCategories: SurgeryGeneral SurgeryView Project\nCategories: SurgeryOrthopedic SurgeryView Project
URL:https://kanecountyhospitalut.gov/event/orthopedic-surgeon-2/2026-07-09/
LOCATION:KCH Specialty Clinic\, 355 Main St\, Kanab\, UT 84741\, Kanab\, UT\, 84741\, United States
CATEGORIES:Recurring,Surgery,Visiting Physicians
ATTACH;FMTTYPE=image/webp:https://kanecountyhospitalut.gov/wp-content/uploads/2023/07/1c6c13_dffc1c4d5d9840209c2123ea2b0292b0mv2.webp
ORGANIZER;CN="KCH Specialty Group":MAILTO:specialtygroup@kchosp.net
END:VEVENT
BEGIN:VEVENT
DTSTART;TZID=UTC:20260716T080000
DTEND;TZID=UTC:20260716T170000
DTSTAMP:20260425T040008
CREATED:20231120T200651Z
LAST-MODIFIED:20240312T184002Z
UID:10000396-1784188800-1784221200@kanecountyhospitalut.gov
SUMMARY:General Surgeon
DESCRIPTION:Categories: Orthopedic Surgery\, Specialist Physicians\, Sports Medicine\, SurgeryRotator Cuff RepairView Project\nCategories: SurgeryGeneral SurgeryView Project\nCategories: SurgeryOrthopedic SurgeryView Project
URL:https://kanecountyhospitalut.gov/event/general-surgeon-2/2026-07-16/
CATEGORIES:Recurring,Surgery,Visiting Physicians
ATTACH;FMTTYPE=image/jpeg:https://kanecountyhospitalut.gov/wp-content/uploads/2023/11/dr.-ripley-headshot.jpg
ORGANIZER;CN="KCH Specialty Group":MAILTO:specialtygroup@kchosp.net
END:VEVENT
BEGIN:VEVENT
DTSTART;TZID=UTC:20260717T080000
DTEND;TZID=UTC:20260717T170000
DTSTAMP:20260425T040008
CREATED:20231120T200933Z
LAST-MODIFIED:20240312T184117Z
UID:10000636-1784275200-1784307600@kanecountyhospitalut.gov
SUMMARY:General Surgeon
DESCRIPTION:Categories: Orthopedic Surgery\, Specialist Physicians\, Sports Medicine\, SurgeryRotator Cuff RepairView Project\nCategories: SurgeryGeneral SurgeryView Project\nCategories: SurgeryOrthopedic SurgeryView Project
URL:https://kanecountyhospitalut.gov/event/general-surgeon-4/2026-07-17/
CATEGORIES:Recurring,Surgery,Visiting Physicians
ATTACH;FMTTYPE=image/jpeg:https://kanecountyhospitalut.gov/wp-content/uploads/2023/11/dr.-ripley-headshot-1.jpg
ORGANIZER;CN="KCH Specialty Group":MAILTO:specialtygroup@kchosp.net
END:VEVENT
BEGIN:VEVENT
DTSTART;TZID=UTC:20260723T080000
DTEND;TZID=UTC:20260723T170000
DTSTAMP:20260425T040008
CREATED:20231017T012018Z
LAST-MODIFIED:20251023T174043Z
UID:10000155-1784793600-1784826000@kanecountyhospitalut.gov
SUMMARY:Dr. Hewitt
DESCRIPTION:Categories: Orthopedic Surgery\, Specialist Physicians\, Sports Medicine\, SurgeryRotator Cuff RepairView Project\nCategories: SurgeryGeneral SurgeryView Project\nCategories: SurgeryOrthopedic SurgeryView Project
URL:https://kanecountyhospitalut.gov/event/orthopedic-surgeon/2026-07-23/
CATEGORIES:Recurring,Surgery,Visiting Physicians
ATTACH;FMTTYPE=image/webp:https://kanecountyhospitalut.gov/wp-content/uploads/2023/07/1c6c13_dffc1c4d5d9840209c2123ea2b0292b0mv2.webp
ORGANIZER;CN="KCH Specialty Group":MAILTO:specialtygroup@kchosp.net
END:VEVENT
BEGIN:VEVENT
DTSTART;TZID=UTC:20260813T080000
DTEND;TZID=UTC:20260813T170000
DTSTAMP:20260425T040008
CREATED:20231017T012115Z
LAST-MODIFIED:20251023T173450Z
UID:10000035-1786608000-1786640400@kanecountyhospitalut.gov
SUMMARY:Dr. Hewitt
DESCRIPTION:Categories: Orthopedic Surgery\, Specialist Physicians\, Sports Medicine\, SurgeryRotator Cuff RepairView Project\nCategories: SurgeryGeneral SurgeryView Project\nCategories: SurgeryOrthopedic SurgeryView Project
URL:https://kanecountyhospitalut.gov/event/orthopedic-surgeon-2/2026-08-13/
LOCATION:KCH Specialty Clinic\, 355 Main St\, Kanab\, UT 84741\, Kanab\, UT\, 84741\, United States
CATEGORIES:Recurring,Surgery,Visiting Physicians
ATTACH;FMTTYPE=image/webp:https://kanecountyhospitalut.gov/wp-content/uploads/2023/07/1c6c13_dffc1c4d5d9840209c2123ea2b0292b0mv2.webp
ORGANIZER;CN="KCH Specialty Group":MAILTO:specialtygroup@kchosp.net
END:VEVENT
BEGIN:VEVENT
DTSTART;TZID=UTC:20260820T080000
DTEND;TZID=UTC:20260820T170000
DTSTAMP:20260425T040008
CREATED:20231120T200651Z
LAST-MODIFIED:20240312T184002Z
UID:10000397-1787212800-1787245200@kanecountyhospitalut.gov
SUMMARY:General Surgeon
DESCRIPTION:Categories: Orthopedic Surgery\, Specialist Physicians\, Sports Medicine\, SurgeryRotator Cuff RepairView Project\nCategories: SurgeryGeneral SurgeryView Project\nCategories: SurgeryOrthopedic SurgeryView Project
URL:https://kanecountyhospitalut.gov/event/general-surgeon-2/2026-08-20/
CATEGORIES:Recurring,Surgery,Visiting Physicians
ATTACH;FMTTYPE=image/jpeg:https://kanecountyhospitalut.gov/wp-content/uploads/2023/11/dr.-ripley-headshot.jpg
ORGANIZER;CN="KCH Specialty Group":MAILTO:specialtygroup@kchosp.net
END:VEVENT
BEGIN:VEVENT
DTSTART;TZID=UTC:20260821T080000
DTEND;TZID=UTC:20260821T170000
DTSTAMP:20260425T040009
CREATED:20231120T200933Z
LAST-MODIFIED:20240312T184117Z
UID:10000637-1787299200-1787331600@kanecountyhospitalut.gov
SUMMARY:General Surgeon
DESCRIPTION:Categories: Orthopedic Surgery\, Specialist Physicians\, Sports Medicine\, SurgeryRotator Cuff RepairView Project\nCategories: SurgeryGeneral SurgeryView Project\nCategories: SurgeryOrthopedic SurgeryView Project
URL:https://kanecountyhospitalut.gov/event/general-surgeon-4/2026-08-21/
CATEGORIES:Recurring,Surgery,Visiting Physicians
ATTACH;FMTTYPE=image/jpeg:https://kanecountyhospitalut.gov/wp-content/uploads/2023/11/dr.-ripley-headshot-1.jpg
ORGANIZER;CN="KCH Specialty Group":MAILTO:specialtygroup@kchosp.net
END:VEVENT
BEGIN:VEVENT
DTSTART;TZID=UTC:20260827T080000
DTEND;TZID=UTC:20260827T170000
DTSTAMP:20260425T040009
CREATED:20231017T012018Z
LAST-MODIFIED:20251023T174043Z
UID:10000156-1787817600-1787850000@kanecountyhospitalut.gov
SUMMARY:Dr. Hewitt
DESCRIPTION:Categories: Orthopedic Surgery\, Specialist Physicians\, Sports Medicine\, SurgeryRotator Cuff RepairView Project\nCategories: SurgeryGeneral SurgeryView Project\nCategories: SurgeryOrthopedic SurgeryView Project
URL:https://kanecountyhospitalut.gov/event/orthopedic-surgeon/2026-08-27/
CATEGORIES:Recurring,Surgery,Visiting Physicians
ATTACH;FMTTYPE=image/webp:https://kanecountyhospitalut.gov/wp-content/uploads/2023/07/1c6c13_dffc1c4d5d9840209c2123ea2b0292b0mv2.webp
ORGANIZER;CN="KCH Specialty Group":MAILTO:specialtygroup@kchosp.net
END:VEVENT
BEGIN:VEVENT
DTSTART;TZID=UTC:20260910T080000
DTEND;TZID=UTC:20260910T170000
DTSTAMP:20260425T040009
CREATED:20231017T012115Z
LAST-MODIFIED:20251023T173450Z
UID:10000036-1789027200-1789059600@kanecountyhospitalut.gov
SUMMARY:Dr. Hewitt
DESCRIPTION:Categories: Orthopedic Surgery\, Specialist Physicians\, Sports Medicine\, SurgeryRotator Cuff RepairView Project\nCategories: SurgeryGeneral SurgeryView Project\nCategories: SurgeryOrthopedic SurgeryView Project
URL:https://kanecountyhospitalut.gov/event/orthopedic-surgeon-2/2026-09-10/
LOCATION:KCH Specialty Clinic\, 355 Main St\, Kanab\, UT 84741\, Kanab\, UT\, 84741\, United States
CATEGORIES:Recurring,Surgery,Visiting Physicians
ATTACH;FMTTYPE=image/webp:https://kanecountyhospitalut.gov/wp-content/uploads/2023/07/1c6c13_dffc1c4d5d9840209c2123ea2b0292b0mv2.webp
ORGANIZER;CN="KCH Specialty Group":MAILTO:specialtygroup@kchosp.net
END:VEVENT
BEGIN:VEVENT
DTSTART;TZID=UTC:20260917T080000
DTEND;TZID=UTC:20260917T170000
DTSTAMP:20260425T040009
CREATED:20231120T200651Z
LAST-MODIFIED:20240312T184002Z
UID:10000398-1789632000-1789664400@kanecountyhospitalut.gov
SUMMARY:General Surgeon
DESCRIPTION:Categories: Orthopedic Surgery\, Specialist Physicians\, Sports Medicine\, SurgeryRotator Cuff RepairView Project\nCategories: SurgeryGeneral SurgeryView Project\nCategories: SurgeryOrthopedic SurgeryView Project
URL:https://kanecountyhospitalut.gov/event/general-surgeon-2/2026-09-17/
CATEGORIES:Recurring,Surgery,Visiting Physicians
ATTACH;FMTTYPE=image/jpeg:https://kanecountyhospitalut.gov/wp-content/uploads/2023/11/dr.-ripley-headshot.jpg
ORGANIZER;CN="KCH Specialty Group":MAILTO:specialtygroup@kchosp.net
END:VEVENT
BEGIN:VEVENT
DTSTART;TZID=UTC:20260918T080000
DTEND;TZID=UTC:20260918T170000
DTSTAMP:20260425T040009
CREATED:20231120T200933Z
LAST-MODIFIED:20240312T184117Z
UID:10000638-1789718400-1789750800@kanecountyhospitalut.gov
SUMMARY:General Surgeon
DESCRIPTION:Categories: Orthopedic Surgery\, Specialist Physicians\, Sports Medicine\, SurgeryRotator Cuff RepairView Project\nCategories: SurgeryGeneral SurgeryView Project\nCategories: SurgeryOrthopedic SurgeryView Project
URL:https://kanecountyhospitalut.gov/event/general-surgeon-4/2026-09-18/
CATEGORIES:Recurring,Surgery,Visiting Physicians
ATTACH;FMTTYPE=image/jpeg:https://kanecountyhospitalut.gov/wp-content/uploads/2023/11/dr.-ripley-headshot-1.jpg
ORGANIZER;CN="KCH Specialty Group":MAILTO:specialtygroup@kchosp.net
END:VEVENT
BEGIN:VEVENT
DTSTART;TZID=UTC:20260924T080000
DTEND;TZID=UTC:20260924T170000
DTSTAMP:20260425T040009
CREATED:20231017T012018Z
LAST-MODIFIED:20251023T174043Z
UID:10000157-1790236800-1790269200@kanecountyhospitalut.gov
SUMMARY:Dr. Hewitt
DESCRIPTION:Categories: Orthopedic Surgery\, Specialist Physicians\, Sports Medicine\, SurgeryRotator Cuff RepairView Project\nCategories: SurgeryGeneral SurgeryView Project\nCategories: SurgeryOrthopedic SurgeryView Project
URL:https://kanecountyhospitalut.gov/event/orthopedic-surgeon/2026-09-24/
CATEGORIES:Recurring,Surgery,Visiting Physicians
ATTACH;FMTTYPE=image/webp:https://kanecountyhospitalut.gov/wp-content/uploads/2023/07/1c6c13_dffc1c4d5d9840209c2123ea2b0292b0mv2.webp
ORGANIZER;CN="KCH Specialty Group":MAILTO:specialtygroup@kchosp.net
END:VEVENT
BEGIN:VEVENT
DTSTART;TZID=UTC:20261008T080000
DTEND;TZID=UTC:20261008T170000
DTSTAMP:20260425T040009
CREATED:20231017T012115Z
LAST-MODIFIED:20251023T173450Z
UID:10000037-1791446400-1791478800@kanecountyhospitalut.gov
SUMMARY:Dr. Hewitt
DESCRIPTION:Categories: Orthopedic Surgery\, Specialist Physicians\, Sports Medicine\, SurgeryRotator Cuff RepairView Project\nCategories: SurgeryGeneral SurgeryView Project\nCategories: SurgeryOrthopedic SurgeryView Project
URL:https://kanecountyhospitalut.gov/event/orthopedic-surgeon-2/2026-10-08/
LOCATION:KCH Specialty Clinic\, 355 Main St\, Kanab\, UT 84741\, Kanab\, UT\, 84741\, United States
CATEGORIES:Recurring,Surgery,Visiting Physicians
ATTACH;FMTTYPE=image/webp:https://kanecountyhospitalut.gov/wp-content/uploads/2023/07/1c6c13_dffc1c4d5d9840209c2123ea2b0292b0mv2.webp
ORGANIZER;CN="KCH Specialty Group":MAILTO:specialtygroup@kchosp.net
END:VEVENT
BEGIN:VEVENT
DTSTART;TZID=UTC:20261015T080000
DTEND;TZID=UTC:20261015T170000
DTSTAMP:20260425T040009
CREATED:20231120T200651Z
LAST-MODIFIED:20240312T184002Z
UID:10000399-1792051200-1792083600@kanecountyhospitalut.gov
SUMMARY:General Surgeon
DESCRIPTION:Categories: Orthopedic Surgery\, Specialist Physicians\, Sports Medicine\, SurgeryRotator Cuff RepairView Project\nCategories: SurgeryGeneral SurgeryView Project\nCategories: SurgeryOrthopedic SurgeryView Project
URL:https://kanecountyhospitalut.gov/event/general-surgeon-2/2026-10-15/
CATEGORIES:Recurring,Surgery,Visiting Physicians
ATTACH;FMTTYPE=image/jpeg:https://kanecountyhospitalut.gov/wp-content/uploads/2023/11/dr.-ripley-headshot.jpg
ORGANIZER;CN="KCH Specialty Group":MAILTO:specialtygroup@kchosp.net
END:VEVENT
BEGIN:VEVENT
DTSTART;TZID=UTC:20261016T080000
DTEND;TZID=UTC:20261016T170000
DTSTAMP:20260425T040009
CREATED:20231120T200933Z
LAST-MODIFIED:20240312T184117Z
UID:10000639-1792137600-1792170000@kanecountyhospitalut.gov
SUMMARY:General Surgeon
DESCRIPTION:Categories: Orthopedic Surgery\, Specialist Physicians\, Sports Medicine\, SurgeryRotator Cuff RepairView Project\nCategories: SurgeryGeneral SurgeryView Project\nCategories: SurgeryOrthopedic SurgeryView Project
URL:https://kanecountyhospitalut.gov/event/general-surgeon-4/2026-10-16/
CATEGORIES:Recurring,Surgery,Visiting Physicians
ATTACH;FMTTYPE=image/jpeg:https://kanecountyhospitalut.gov/wp-content/uploads/2023/11/dr.-ripley-headshot-1.jpg
ORGANIZER;CN="KCH Specialty Group":MAILTO:specialtygroup@kchosp.net
END:VEVENT
END:VCALENDAR