BEGIN:VCALENDAR
VERSION:2.0
PRODID:-//Kane County Hospital - ECPv6.15.20//NONSGML v1.0//EN
CALSCALE:GREGORIAN
METHOD:PUBLISH
X-WR-CALNAME:Kane County Hospital
X-ORIGINAL-URL:https://kanecountyhospitalut.gov
X-WR-CALDESC:Events for Kane County Hospital
REFRESH-INTERVAL;VALUE=DURATION:PT1H
X-Robots-Tag:noindex
X-PUBLISHED-TTL:PT1H
BEGIN:VTIMEZONE
TZID:UTC
BEGIN:STANDARD
TZOFFSETFROM:+0000
TZOFFSETTO:+0000
TZNAME:UTC
DTSTART:20250101T000000
END:STANDARD
END:VTIMEZONE
BEGIN:VEVENT
DTSTART;TZID=UTC:20260716T080000
DTEND;TZID=UTC:20260716T170000
DTSTAMP:20260425T011458
CREATED:20231120T200651Z
LAST-MODIFIED:20240312T184002Z
UID:10000396-1784188800-1784221200@kanecountyhospitalut.gov
SUMMARY:General Surgeon
DESCRIPTION:
URL:https://kanecountyhospitalut.gov/event/general-surgeon-2/2026-07-16/
CATEGORIES:Recurring,Surgery,Visiting Physicians
ATTACH;FMTTYPE=image/jpeg:https://kanecountyhospitalut.gov/wp-content/uploads/2023/11/dr.-ripley-headshot.jpg
ORGANIZER;CN="KCH Specialty Group":MAILTO:specialtygroup@kchosp.net
END:VEVENT
BEGIN:VEVENT
DTSTART;TZID=UTC:20260717T080000
DTEND;TZID=UTC:20260717T170000
DTSTAMP:20260425T011458
CREATED:20231120T200933Z
LAST-MODIFIED:20240312T184117Z
UID:10000636-1784275200-1784307600@kanecountyhospitalut.gov
SUMMARY:General Surgeon
DESCRIPTION:
URL:https://kanecountyhospitalut.gov/event/general-surgeon-4/2026-07-17/
CATEGORIES:Recurring,Surgery,Visiting Physicians
ATTACH;FMTTYPE=image/jpeg:https://kanecountyhospitalut.gov/wp-content/uploads/2023/11/dr.-ripley-headshot-1.jpg
ORGANIZER;CN="KCH Specialty Group":MAILTO:specialtygroup@kchosp.net
END:VEVENT
BEGIN:VEVENT
DTSTART;TZID=UTC:20260820T080000
DTEND;TZID=UTC:20260820T170000
DTSTAMP:20260425T011458
CREATED:20231120T200651Z
LAST-MODIFIED:20240312T184002Z
UID:10000397-1787212800-1787245200@kanecountyhospitalut.gov
SUMMARY:General Surgeon
DESCRIPTION:
URL:https://kanecountyhospitalut.gov/event/general-surgeon-2/2026-08-20/
CATEGORIES:Recurring,Surgery,Visiting Physicians
ATTACH;FMTTYPE=image/jpeg:https://kanecountyhospitalut.gov/wp-content/uploads/2023/11/dr.-ripley-headshot.jpg
ORGANIZER;CN="KCH Specialty Group":MAILTO:specialtygroup@kchosp.net
END:VEVENT
BEGIN:VEVENT
DTSTART;TZID=UTC:20260821T080000
DTEND;TZID=UTC:20260821T170000
DTSTAMP:20260425T011458
CREATED:20231120T200933Z
LAST-MODIFIED:20240312T184117Z
UID:10000637-1787299200-1787331600@kanecountyhospitalut.gov
SUMMARY:General Surgeon
DESCRIPTION:
URL:https://kanecountyhospitalut.gov/event/general-surgeon-4/2026-08-21/
CATEGORIES:Recurring,Surgery,Visiting Physicians
ATTACH;FMTTYPE=image/jpeg:https://kanecountyhospitalut.gov/wp-content/uploads/2023/11/dr.-ripley-headshot-1.jpg
ORGANIZER;CN="KCH Specialty Group":MAILTO:specialtygroup@kchosp.net
END:VEVENT
BEGIN:VEVENT
DTSTART;TZID=UTC:20260917T080000
DTEND;TZID=UTC:20260917T170000
DTSTAMP:20260425T011458
CREATED:20231120T200651Z
LAST-MODIFIED:20240312T184002Z
UID:10000398-1789632000-1789664400@kanecountyhospitalut.gov
SUMMARY:General Surgeon
DESCRIPTION:
URL:https://kanecountyhospitalut.gov/event/general-surgeon-2/2026-09-17/
CATEGORIES:Recurring,Surgery,Visiting Physicians
ATTACH;FMTTYPE=image/jpeg:https://kanecountyhospitalut.gov/wp-content/uploads/2023/11/dr.-ripley-headshot.jpg
ORGANIZER;CN="KCH Specialty Group":MAILTO:specialtygroup@kchosp.net
END:VEVENT
BEGIN:VEVENT
DTSTART;TZID=UTC:20260918T080000
DTEND;TZID=UTC:20260918T170000
DTSTAMP:20260425T011458
CREATED:20231120T200933Z
LAST-MODIFIED:20240312T184117Z
UID:10000638-1789718400-1789750800@kanecountyhospitalut.gov
SUMMARY:General Surgeon
DESCRIPTION:
URL:https://kanecountyhospitalut.gov/event/general-surgeon-4/2026-09-18/
CATEGORIES:Recurring,Surgery,Visiting Physicians
ATTACH;FMTTYPE=image/jpeg:https://kanecountyhospitalut.gov/wp-content/uploads/2023/11/dr.-ripley-headshot-1.jpg
ORGANIZER;CN="KCH Specialty Group":MAILTO:specialtygroup@kchosp.net
END:VEVENT
BEGIN:VEVENT
DTSTART;TZID=UTC:20261015T080000
DTEND;TZID=UTC:20261015T170000
DTSTAMP:20260425T011458
CREATED:20231120T200651Z
LAST-MODIFIED:20240312T184002Z
UID:10000399-1792051200-1792083600@kanecountyhospitalut.gov
SUMMARY:General Surgeon
DESCRIPTION:
URL:https://kanecountyhospitalut.gov/event/general-surgeon-2/2026-10-15/
CATEGORIES:Recurring,Surgery,Visiting Physicians
ATTACH;FMTTYPE=image/jpeg:https://kanecountyhospitalut.gov/wp-content/uploads/2023/11/dr.-ripley-headshot.jpg
ORGANIZER;CN="KCH Specialty Group":MAILTO:specialtygroup@kchosp.net
END:VEVENT
BEGIN:VEVENT
DTSTART;TZID=UTC:20261016T080000
DTEND;TZID=UTC:20261016T170000
DTSTAMP:20260425T011458
CREATED:20231120T200933Z
LAST-MODIFIED:20240312T184117Z
UID:10000639-1792137600-1792170000@kanecountyhospitalut.gov
SUMMARY:General Surgeon
DESCRIPTION:
URL:https://kanecountyhospitalut.gov/event/general-surgeon-4/2026-10-16/
CATEGORIES:Recurring,Surgery,Visiting Physicians
ATTACH;FMTTYPE=image/jpeg:https://kanecountyhospitalut.gov/wp-content/uploads/2023/11/dr.-ripley-headshot-1.jpg
ORGANIZER;CN="KCH Specialty Group":MAILTO:specialtygroup@kchosp.net
END:VEVENT
BEGIN:VEVENT
DTSTART;TZID=UTC:20261119T080000
DTEND;TZID=UTC:20261119T170000
DTSTAMP:20260425T011458
CREATED:20231120T200651Z
LAST-MODIFIED:20240312T184002Z
UID:10000400-1795075200-1795107600@kanecountyhospitalut.gov
SUMMARY:General Surgeon
DESCRIPTION:
URL:https://kanecountyhospitalut.gov/event/general-surgeon-2/2026-11-19/
CATEGORIES:Recurring,Surgery,Visiting Physicians
ATTACH;FMTTYPE=image/jpeg:https://kanecountyhospitalut.gov/wp-content/uploads/2023/11/dr.-ripley-headshot.jpg
ORGANIZER;CN="KCH Specialty Group":MAILTO:specialtygroup@kchosp.net
END:VEVENT
BEGIN:VEVENT
DTSTART;TZID=UTC:20261120T080000
DTEND;TZID=UTC:20261120T170000
DTSTAMP:20260425T011458
CREATED:20231120T200933Z
LAST-MODIFIED:20240312T184117Z
UID:10000640-1795161600-1795194000@kanecountyhospitalut.gov
SUMMARY:General Surgeon
DESCRIPTION:
URL:https://kanecountyhospitalut.gov/event/general-surgeon-4/2026-11-20/
CATEGORIES:Recurring,Surgery,Visiting Physicians
ATTACH;FMTTYPE=image/jpeg:https://kanecountyhospitalut.gov/wp-content/uploads/2023/11/dr.-ripley-headshot-1.jpg
ORGANIZER;CN="KCH Specialty Group":MAILTO:specialtygroup@kchosp.net
END:VEVENT
BEGIN:VEVENT
DTSTART;TZID=UTC:20261217T080000
DTEND;TZID=UTC:20261217T170000
DTSTAMP:20260425T011458
CREATED:20231120T200651Z
LAST-MODIFIED:20240312T184002Z
UID:10000401-1797494400-1797526800@kanecountyhospitalut.gov
SUMMARY:General Surgeon
DESCRIPTION:
URL:https://kanecountyhospitalut.gov/event/general-surgeon-2/2026-12-17/
CATEGORIES:Recurring,Surgery,Visiting Physicians
ATTACH;FMTTYPE=image/jpeg:https://kanecountyhospitalut.gov/wp-content/uploads/2023/11/dr.-ripley-headshot.jpg
ORGANIZER;CN="KCH Specialty Group":MAILTO:specialtygroup@kchosp.net
END:VEVENT
BEGIN:VEVENT
DTSTART;TZID=UTC:20261218T080000
DTEND;TZID=UTC:20261218T170000
DTSTAMP:20260425T011458
CREATED:20231120T200933Z
LAST-MODIFIED:20240312T184117Z
UID:10000641-1797580800-1797613200@kanecountyhospitalut.gov
SUMMARY:General Surgeon
DESCRIPTION:
URL:https://kanecountyhospitalut.gov/event/general-surgeon-4/2026-12-18/
CATEGORIES:Recurring,Surgery,Visiting Physicians
ATTACH;FMTTYPE=image/jpeg:https://kanecountyhospitalut.gov/wp-content/uploads/2023/11/dr.-ripley-headshot-1.jpg
ORGANIZER;CN="KCH Specialty Group":MAILTO:specialtygroup@kchosp.net
END:VEVENT
BEGIN:VEVENT
DTSTART;TZID=UTC:20270115T080000
DTEND;TZID=UTC:20270115T170000
DTSTAMP:20260425T011458
CREATED:20231120T200933Z
LAST-MODIFIED:20240312T184117Z
UID:10000642-1800000000-1800032400@kanecountyhospitalut.gov
SUMMARY:General Surgeon
DESCRIPTION:
URL:https://kanecountyhospitalut.gov/event/general-surgeon-4/2027-01-15/
CATEGORIES:Recurring,Surgery,Visiting Physicians
ATTACH;FMTTYPE=image/jpeg:https://kanecountyhospitalut.gov/wp-content/uploads/2023/11/dr.-ripley-headshot-1.jpg
ORGANIZER;CN="KCH Specialty Group":MAILTO:specialtygroup@kchosp.net
END:VEVENT
BEGIN:VEVENT
DTSTART;TZID=UTC:20270121T080000
DTEND;TZID=UTC:20270121T170000
DTSTAMP:20260425T011458
CREATED:20231120T200651Z
LAST-MODIFIED:20240312T184002Z
UID:10000402-1800518400-1800550800@kanecountyhospitalut.gov
SUMMARY:General Surgeon
DESCRIPTION:
URL:https://kanecountyhospitalut.gov/event/general-surgeon-2/2027-01-21/
CATEGORIES:Recurring,Surgery,Visiting Physicians
ATTACH;FMTTYPE=image/jpeg:https://kanecountyhospitalut.gov/wp-content/uploads/2023/11/dr.-ripley-headshot.jpg
ORGANIZER;CN="KCH Specialty Group":MAILTO:specialtygroup@kchosp.net
END:VEVENT
BEGIN:VEVENT
DTSTART;TZID=UTC:20270218T080000
DTEND;TZID=UTC:20270218T170000
DTSTAMP:20260425T011458
CREATED:20231120T200651Z
LAST-MODIFIED:20240312T184002Z
UID:10000403-1802937600-1802970000@kanecountyhospitalut.gov
SUMMARY:General Surgeon
DESCRIPTION:
URL:https://kanecountyhospitalut.gov/event/general-surgeon-2/2027-02-18/
CATEGORIES:Recurring,Surgery,Visiting Physicians
ATTACH;FMTTYPE=image/jpeg:https://kanecountyhospitalut.gov/wp-content/uploads/2023/11/dr.-ripley-headshot.jpg
ORGANIZER;CN="KCH Specialty Group":MAILTO:specialtygroup@kchosp.net
END:VEVENT
BEGIN:VEVENT
DTSTART;TZID=UTC:20270219T080000
DTEND;TZID=UTC:20270219T170000
DTSTAMP:20260425T011458
CREATED:20231120T200933Z
LAST-MODIFIED:20240312T184117Z
UID:10000643-1803024000-1803056400@kanecountyhospitalut.gov
SUMMARY:General Surgeon
DESCRIPTION:
URL:https://kanecountyhospitalut.gov/event/general-surgeon-4/2027-02-19/
CATEGORIES:Recurring,Surgery,Visiting Physicians
ATTACH;FMTTYPE=image/jpeg:https://kanecountyhospitalut.gov/wp-content/uploads/2023/11/dr.-ripley-headshot-1.jpg
ORGANIZER;CN="KCH Specialty Group":MAILTO:specialtygroup@kchosp.net
END:VEVENT
BEGIN:VEVENT
DTSTART;TZID=UTC:20270318T080000
DTEND;TZID=UTC:20270318T170000
DTSTAMP:20260425T011458
CREATED:20231120T200651Z
LAST-MODIFIED:20240312T184002Z
UID:10000404-1805356800-1805389200@kanecountyhospitalut.gov
SUMMARY:General Surgeon
DESCRIPTION:
URL:https://kanecountyhospitalut.gov/event/general-surgeon-2/2027-03-18/
CATEGORIES:Recurring,Surgery,Visiting Physicians
ATTACH;FMTTYPE=image/jpeg:https://kanecountyhospitalut.gov/wp-content/uploads/2023/11/dr.-ripley-headshot.jpg
ORGANIZER;CN="KCH Specialty Group":MAILTO:specialtygroup@kchosp.net
END:VEVENT
BEGIN:VEVENT
DTSTART;TZID=UTC:20270319T080000
DTEND;TZID=UTC:20270319T170000
DTSTAMP:20260425T011458
CREATED:20231120T200933Z
LAST-MODIFIED:20240312T184117Z
UID:10000644-1805443200-1805475600@kanecountyhospitalut.gov
SUMMARY:General Surgeon
DESCRIPTION:
URL:https://kanecountyhospitalut.gov/event/general-surgeon-4/2027-03-19/
CATEGORIES:Recurring,Surgery,Visiting Physicians
ATTACH;FMTTYPE=image/jpeg:https://kanecountyhospitalut.gov/wp-content/uploads/2023/11/dr.-ripley-headshot-1.jpg
ORGANIZER;CN="KCH Specialty Group":MAILTO:specialtygroup@kchosp.net
END:VEVENT
BEGIN:VEVENT
DTSTART;TZID=UTC:20270415T080000
DTEND;TZID=UTC:20270415T170000
DTSTAMP:20260425T011458
CREATED:20231120T200651Z
LAST-MODIFIED:20240312T184002Z
UID:10000405-1807776000-1807808400@kanecountyhospitalut.gov
SUMMARY:General Surgeon
DESCRIPTION:
URL:https://kanecountyhospitalut.gov/event/general-surgeon-2/2027-04-15/
CATEGORIES:Recurring,Surgery,Visiting Physicians
ATTACH;FMTTYPE=image/jpeg:https://kanecountyhospitalut.gov/wp-content/uploads/2023/11/dr.-ripley-headshot.jpg
ORGANIZER;CN="KCH Specialty Group":MAILTO:specialtygroup@kchosp.net
END:VEVENT
BEGIN:VEVENT
DTSTART;TZID=UTC:20270416T080000
DTEND;TZID=UTC:20270416T170000
DTSTAMP:20260425T011458
CREATED:20231120T200933Z
LAST-MODIFIED:20240312T184117Z
UID:10000645-1807862400-1807894800@kanecountyhospitalut.gov
SUMMARY:General Surgeon
DESCRIPTION:
URL:https://kanecountyhospitalut.gov/event/general-surgeon-4/2027-04-16/
CATEGORIES:Recurring,Surgery,Visiting Physicians
ATTACH;FMTTYPE=image/jpeg:https://kanecountyhospitalut.gov/wp-content/uploads/2023/11/dr.-ripley-headshot-1.jpg
ORGANIZER;CN="KCH Specialty Group":MAILTO:specialtygroup@kchosp.net
END:VEVENT
BEGIN:VEVENT
DTSTART;TZID=UTC:20270520T080000
DTEND;TZID=UTC:20270520T170000
DTSTAMP:20260425T011458
CREATED:20231120T200651Z
LAST-MODIFIED:20240312T184002Z
UID:10000406-1810800000-1810832400@kanecountyhospitalut.gov
SUMMARY:General Surgeon
DESCRIPTION:
URL:https://kanecountyhospitalut.gov/event/general-surgeon-2/2027-05-20/
CATEGORIES:Recurring,Surgery,Visiting Physicians
ATTACH;FMTTYPE=image/jpeg:https://kanecountyhospitalut.gov/wp-content/uploads/2023/11/dr.-ripley-headshot.jpg
ORGANIZER;CN="KCH Specialty Group":MAILTO:specialtygroup@kchosp.net
END:VEVENT
BEGIN:VEVENT
DTSTART;TZID=UTC:20270521T080000
DTEND;TZID=UTC:20270521T170000
DTSTAMP:20260425T011458
CREATED:20231120T200933Z
LAST-MODIFIED:20240312T184117Z
UID:10000646-1810886400-1810918800@kanecountyhospitalut.gov
SUMMARY:General Surgeon
DESCRIPTION:
URL:https://kanecountyhospitalut.gov/event/general-surgeon-4/2027-05-21/
CATEGORIES:Recurring,Surgery,Visiting Physicians
ATTACH;FMTTYPE=image/jpeg:https://kanecountyhospitalut.gov/wp-content/uploads/2023/11/dr.-ripley-headshot-1.jpg
ORGANIZER;CN="KCH Specialty Group":MAILTO:specialtygroup@kchosp.net
END:VEVENT
BEGIN:VEVENT
DTSTART;TZID=UTC:20270617T080000
DTEND;TZID=UTC:20270617T170000
DTSTAMP:20260425T011458
CREATED:20231120T200651Z
LAST-MODIFIED:20240312T184002Z
UID:10000407-1813219200-1813251600@kanecountyhospitalut.gov
SUMMARY:General Surgeon
DESCRIPTION:
URL:https://kanecountyhospitalut.gov/event/general-surgeon-2/2027-06-17/
CATEGORIES:Recurring,Surgery,Visiting Physicians
ATTACH;FMTTYPE=image/jpeg:https://kanecountyhospitalut.gov/wp-content/uploads/2023/11/dr.-ripley-headshot.jpg
ORGANIZER;CN="KCH Specialty Group":MAILTO:specialtygroup@kchosp.net
END:VEVENT
BEGIN:VEVENT
DTSTART;TZID=UTC:20270618T080000
DTEND;TZID=UTC:20270618T170000
DTSTAMP:20260425T011458
CREATED:20231120T200933Z
LAST-MODIFIED:20240312T184117Z
UID:10000647-1813305600-1813338000@kanecountyhospitalut.gov
SUMMARY:General Surgeon
DESCRIPTION:
URL:https://kanecountyhospitalut.gov/event/general-surgeon-4/2027-06-18/
CATEGORIES:Recurring,Surgery,Visiting Physicians
ATTACH;FMTTYPE=image/jpeg:https://kanecountyhospitalut.gov/wp-content/uploads/2023/11/dr.-ripley-headshot-1.jpg
ORGANIZER;CN="KCH Specialty Group":MAILTO:specialtygroup@kchosp.net
END:VEVENT
BEGIN:VEVENT
DTSTART;TZID=UTC:20270715T080000
DTEND;TZID=UTC:20270715T170000
DTSTAMP:20260425T011458
CREATED:20231120T200651Z
LAST-MODIFIED:20240312T184002Z
UID:10000408-1815638400-1815670800@kanecountyhospitalut.gov
SUMMARY:General Surgeon
DESCRIPTION:
URL:https://kanecountyhospitalut.gov/event/general-surgeon-2/2027-07-15/
CATEGORIES:Recurring,Surgery,Visiting Physicians
ATTACH;FMTTYPE=image/jpeg:https://kanecountyhospitalut.gov/wp-content/uploads/2023/11/dr.-ripley-headshot.jpg
ORGANIZER;CN="KCH Specialty Group":MAILTO:specialtygroup@kchosp.net
END:VEVENT
BEGIN:VEVENT
DTSTART;TZID=UTC:20270716T080000
DTEND;TZID=UTC:20270716T170000
DTSTAMP:20260425T011458
CREATED:20231120T200933Z
LAST-MODIFIED:20240312T184117Z
UID:10000648-1815724800-1815757200@kanecountyhospitalut.gov
SUMMARY:General Surgeon
DESCRIPTION:
URL:https://kanecountyhospitalut.gov/event/general-surgeon-4/2027-07-16/
CATEGORIES:Recurring,Surgery,Visiting Physicians
ATTACH;FMTTYPE=image/jpeg:https://kanecountyhospitalut.gov/wp-content/uploads/2023/11/dr.-ripley-headshot-1.jpg
ORGANIZER;CN="KCH Specialty Group":MAILTO:specialtygroup@kchosp.net
END:VEVENT
BEGIN:VEVENT
DTSTART;TZID=UTC:20270819T080000
DTEND;TZID=UTC:20270819T170000
DTSTAMP:20260425T011458
CREATED:20231120T200651Z
LAST-MODIFIED:20240312T184002Z
UID:10000409-1818662400-1818694800@kanecountyhospitalut.gov
SUMMARY:General Surgeon
DESCRIPTION:
URL:https://kanecountyhospitalut.gov/event/general-surgeon-2/2027-08-19/
CATEGORIES:Recurring,Surgery,Visiting Physicians
ATTACH;FMTTYPE=image/jpeg:https://kanecountyhospitalut.gov/wp-content/uploads/2023/11/dr.-ripley-headshot.jpg
ORGANIZER;CN="KCH Specialty Group":MAILTO:specialtygroup@kchosp.net
END:VEVENT
BEGIN:VEVENT
DTSTART;TZID=UTC:20270820T080000
DTEND;TZID=UTC:20270820T170000
DTSTAMP:20260425T011458
CREATED:20231120T200933Z
LAST-MODIFIED:20240312T184117Z
UID:10000649-1818748800-1818781200@kanecountyhospitalut.gov
SUMMARY:General Surgeon
DESCRIPTION:
URL:https://kanecountyhospitalut.gov/event/general-surgeon-4/2027-08-20/
CATEGORIES:Recurring,Surgery,Visiting Physicians
ATTACH;FMTTYPE=image/jpeg:https://kanecountyhospitalut.gov/wp-content/uploads/2023/11/dr.-ripley-headshot-1.jpg
ORGANIZER;CN="KCH Specialty Group":MAILTO:specialtygroup@kchosp.net
END:VEVENT
BEGIN:VEVENT
DTSTART;TZID=UTC:20270916T080000
DTEND;TZID=UTC:20270916T170000
DTSTAMP:20260425T011458
CREATED:20231120T200651Z
LAST-MODIFIED:20240312T184002Z
UID:10000410-1821081600-1821114000@kanecountyhospitalut.gov
SUMMARY:General Surgeon
DESCRIPTION:
URL:https://kanecountyhospitalut.gov/event/general-surgeon-2/2027-09-16/
CATEGORIES:Recurring,Surgery,Visiting Physicians
ATTACH;FMTTYPE=image/jpeg:https://kanecountyhospitalut.gov/wp-content/uploads/2023/11/dr.-ripley-headshot.jpg
ORGANIZER;CN="KCH Specialty Group":MAILTO:specialtygroup@kchosp.net
END:VEVENT
BEGIN:VEVENT
DTSTART;TZID=UTC:20270917T080000
DTEND;TZID=UTC:20270917T170000
DTSTAMP:20260425T011458
CREATED:20231120T200933Z
LAST-MODIFIED:20240312T184117Z
UID:10000650-1821168000-1821200400@kanecountyhospitalut.gov
SUMMARY:General Surgeon
DESCRIPTION:
URL:https://kanecountyhospitalut.gov/event/general-surgeon-4/2027-09-17/
CATEGORIES:Recurring,Surgery,Visiting Physicians
ATTACH;FMTTYPE=image/jpeg:https://kanecountyhospitalut.gov/wp-content/uploads/2023/11/dr.-ripley-headshot-1.jpg
ORGANIZER;CN="KCH Specialty Group":MAILTO:specialtygroup@kchosp.net
END:VEVENT
END:VCALENDAR