BEGIN:VCALENDAR
VERSION:2.0
PRODID:-//Kane County Hospital - ECPv6.15.20//NONSGML v1.0//EN
CALSCALE:GREGORIAN
METHOD:PUBLISH
X-WR-CALNAME:Kane County Hospital
X-ORIGINAL-URL:https://kanecountyhospitalut.gov
X-WR-CALDESC:Events for Kane County Hospital
REFRESH-INTERVAL;VALUE=DURATION:PT1H
X-Robots-Tag:noindex
X-PUBLISHED-TTL:PT1H
BEGIN:VTIMEZONE
TZID:UTC
BEGIN:STANDARD
TZOFFSETFROM:+0000
TZOFFSETTO:+0000
TZNAME:UTC
DTSTART:20260101T000000
END:STANDARD
END:VTIMEZONE
BEGIN:VEVENT
DTSTART;TZID=UTC:20270513T080000
DTEND;TZID=UTC:20270513T170000
DTSTAMP:20260424T221343
CREATED:20231017T012115Z
LAST-MODIFIED:20251023T173450Z
UID:10000044-1810195200-1810227600@kanecountyhospitalut.gov
SUMMARY:Dr. Hewitt
DESCRIPTION:
URL:https://kanecountyhospitalut.gov/event/orthopedic-surgeon-2/2027-05-13/
LOCATION:KCH Specialty Clinic\, 355 Main St\, Kanab\, UT 84741\, Kanab\, UT\, 84741\, United States
CATEGORIES:Recurring,Surgery,Visiting Physicians
ATTACH;FMTTYPE=image/webp:https://kanecountyhospitalut.gov/wp-content/uploads/2023/07/1c6c13_dffc1c4d5d9840209c2123ea2b0292b0mv2.webp
ORGANIZER;CN="KCH Specialty Group":MAILTO:specialtygroup@kchosp.net
END:VEVENT
BEGIN:VEVENT
DTSTART;TZID=UTC:20270610T080000
DTEND;TZID=UTC:20270610T170000
DTSTAMP:20260424T221343
CREATED:20231017T012115Z
LAST-MODIFIED:20251023T173450Z
UID:10000045-1812614400-1812646800@kanecountyhospitalut.gov
SUMMARY:Dr. Hewitt
DESCRIPTION:
URL:https://kanecountyhospitalut.gov/event/orthopedic-surgeon-2/2027-06-10/
LOCATION:KCH Specialty Clinic\, 355 Main St\, Kanab\, UT 84741\, Kanab\, UT\, 84741\, United States
CATEGORIES:Recurring,Surgery,Visiting Physicians
ATTACH;FMTTYPE=image/webp:https://kanecountyhospitalut.gov/wp-content/uploads/2023/07/1c6c13_dffc1c4d5d9840209c2123ea2b0292b0mv2.webp
ORGANIZER;CN="KCH Specialty Group":MAILTO:specialtygroup@kchosp.net
END:VEVENT
BEGIN:VEVENT
DTSTART;TZID=UTC:20270708T080000
DTEND;TZID=UTC:20270708T170000
DTSTAMP:20260424T221343
CREATED:20231017T012115Z
LAST-MODIFIED:20251023T173450Z
UID:10000046-1815033600-1815066000@kanecountyhospitalut.gov
SUMMARY:Dr. Hewitt
DESCRIPTION:
URL:https://kanecountyhospitalut.gov/event/orthopedic-surgeon-2/2027-07-08/
LOCATION:KCH Specialty Clinic\, 355 Main St\, Kanab\, UT 84741\, Kanab\, UT\, 84741\, United States
CATEGORIES:Recurring,Surgery,Visiting Physicians
ATTACH;FMTTYPE=image/webp:https://kanecountyhospitalut.gov/wp-content/uploads/2023/07/1c6c13_dffc1c4d5d9840209c2123ea2b0292b0mv2.webp
ORGANIZER;CN="KCH Specialty Group":MAILTO:specialtygroup@kchosp.net
END:VEVENT
BEGIN:VEVENT
DTSTART;TZID=UTC:20270812T080000
DTEND;TZID=UTC:20270812T170000
DTSTAMP:20260424T221343
CREATED:20231017T012115Z
LAST-MODIFIED:20251023T173450Z
UID:10000047-1818057600-1818090000@kanecountyhospitalut.gov
SUMMARY:Dr. Hewitt
DESCRIPTION:
URL:https://kanecountyhospitalut.gov/event/orthopedic-surgeon-2/2027-08-12/
LOCATION:KCH Specialty Clinic\, 355 Main St\, Kanab\, UT 84741\, Kanab\, UT\, 84741\, United States
CATEGORIES:Recurring,Surgery,Visiting Physicians
ATTACH;FMTTYPE=image/webp:https://kanecountyhospitalut.gov/wp-content/uploads/2023/07/1c6c13_dffc1c4d5d9840209c2123ea2b0292b0mv2.webp
ORGANIZER;CN="KCH Specialty Group":MAILTO:specialtygroup@kchosp.net
END:VEVENT
BEGIN:VEVENT
DTSTART;TZID=UTC:20270909T080000
DTEND;TZID=UTC:20270909T170000
DTSTAMP:20260424T221343
CREATED:20231017T012115Z
LAST-MODIFIED:20251023T173450Z
UID:10000048-1820476800-1820509200@kanecountyhospitalut.gov
SUMMARY:Dr. Hewitt
DESCRIPTION:
URL:https://kanecountyhospitalut.gov/event/orthopedic-surgeon-2/2027-09-09/
LOCATION:KCH Specialty Clinic\, 355 Main St\, Kanab\, UT 84741\, Kanab\, UT\, 84741\, United States
CATEGORIES:Recurring,Surgery,Visiting Physicians
ATTACH;FMTTYPE=image/webp:https://kanecountyhospitalut.gov/wp-content/uploads/2023/07/1c6c13_dffc1c4d5d9840209c2123ea2b0292b0mv2.webp
ORGANIZER;CN="KCH Specialty Group":MAILTO:specialtygroup@kchosp.net
END:VEVENT
BEGIN:VEVENT
DTSTART;TZID=UTC:20271014T080000
DTEND;TZID=UTC:20271014T170000
DTSTAMP:20260424T221343
CREATED:20231017T012115Z
LAST-MODIFIED:20251023T173450Z
UID:10000049-1823500800-1823533200@kanecountyhospitalut.gov
SUMMARY:Dr. Hewitt
DESCRIPTION:
URL:https://kanecountyhospitalut.gov/event/orthopedic-surgeon-2/2027-10-14/
LOCATION:KCH Specialty Clinic\, 355 Main St\, Kanab\, UT 84741\, Kanab\, UT\, 84741\, United States
CATEGORIES:Recurring,Surgery,Visiting Physicians
ATTACH;FMTTYPE=image/webp:https://kanecountyhospitalut.gov/wp-content/uploads/2023/07/1c6c13_dffc1c4d5d9840209c2123ea2b0292b0mv2.webp
ORGANIZER;CN="KCH Specialty Group":MAILTO:specialtygroup@kchosp.net
END:VEVENT
BEGIN:VEVENT
DTSTART;TZID=UTC:20271111T080000
DTEND;TZID=UTC:20271111T170000
DTSTAMP:20260424T221343
CREATED:20231017T012115Z
LAST-MODIFIED:20251023T173450Z
UID:10000050-1825920000-1825952400@kanecountyhospitalut.gov
SUMMARY:Dr. Hewitt
DESCRIPTION:
URL:https://kanecountyhospitalut.gov/event/orthopedic-surgeon-2/2027-11-11/
LOCATION:KCH Specialty Clinic\, 355 Main St\, Kanab\, UT 84741\, Kanab\, UT\, 84741\, United States
CATEGORIES:Recurring,Surgery,Visiting Physicians
ATTACH;FMTTYPE=image/webp:https://kanecountyhospitalut.gov/wp-content/uploads/2023/07/1c6c13_dffc1c4d5d9840209c2123ea2b0292b0mv2.webp
ORGANIZER;CN="KCH Specialty Group":MAILTO:specialtygroup@kchosp.net
END:VEVENT
BEGIN:VEVENT
DTSTART;TZID=UTC:20271209T080000
DTEND;TZID=UTC:20271209T170000
DTSTAMP:20260424T221343
CREATED:20231017T012115Z
LAST-MODIFIED:20251023T173450Z
UID:10000051-1828339200-1828371600@kanecountyhospitalut.gov
SUMMARY:Dr. Hewitt
DESCRIPTION:
URL:https://kanecountyhospitalut.gov/event/orthopedic-surgeon-2/2027-12-09/
LOCATION:KCH Specialty Clinic\, 355 Main St\, Kanab\, UT 84741\, Kanab\, UT\, 84741\, United States
CATEGORIES:Recurring,Surgery,Visiting Physicians
ATTACH;FMTTYPE=image/webp:https://kanecountyhospitalut.gov/wp-content/uploads/2023/07/1c6c13_dffc1c4d5d9840209c2123ea2b0292b0mv2.webp
ORGANIZER;CN="KCH Specialty Group":MAILTO:specialtygroup@kchosp.net
END:VEVENT
BEGIN:VEVENT
DTSTART;TZID=UTC:20280113T080000
DTEND;TZID=UTC:20280113T170000
DTSTAMP:20260424T221343
CREATED:20231017T012115Z
LAST-MODIFIED:20251023T173450Z
UID:10000052-1831363200-1831395600@kanecountyhospitalut.gov
SUMMARY:Dr. Hewitt
DESCRIPTION:
URL:https://kanecountyhospitalut.gov/event/orthopedic-surgeon-2/2028-01-13/
LOCATION:KCH Specialty Clinic\, 355 Main St\, Kanab\, UT 84741\, Kanab\, UT\, 84741\, United States
CATEGORIES:Recurring,Surgery,Visiting Physicians
ATTACH;FMTTYPE=image/webp:https://kanecountyhospitalut.gov/wp-content/uploads/2023/07/1c6c13_dffc1c4d5d9840209c2123ea2b0292b0mv2.webp
ORGANIZER;CN="KCH Specialty Group":MAILTO:specialtygroup@kchosp.net
END:VEVENT
BEGIN:VEVENT
DTSTART;TZID=UTC:20280210T080000
DTEND;TZID=UTC:20280210T170000
DTSTAMP:20260424T221343
CREATED:20231017T012115Z
LAST-MODIFIED:20251023T173450Z
UID:10000053-1833782400-1833814800@kanecountyhospitalut.gov
SUMMARY:Dr. Hewitt
DESCRIPTION:
URL:https://kanecountyhospitalut.gov/event/orthopedic-surgeon-2/2028-02-10/
LOCATION:KCH Specialty Clinic\, 355 Main St\, Kanab\, UT 84741\, Kanab\, UT\, 84741\, United States
CATEGORIES:Recurring,Surgery,Visiting Physicians
ATTACH;FMTTYPE=image/webp:https://kanecountyhospitalut.gov/wp-content/uploads/2023/07/1c6c13_dffc1c4d5d9840209c2123ea2b0292b0mv2.webp
ORGANIZER;CN="KCH Specialty Group":MAILTO:specialtygroup@kchosp.net
END:VEVENT
BEGIN:VEVENT
DTSTART;TZID=UTC:20280309T080000
DTEND;TZID=UTC:20280309T170000
DTSTAMP:20260424T221343
CREATED:20231017T012115Z
LAST-MODIFIED:20251023T173450Z
UID:10000054-1836201600-1836234000@kanecountyhospitalut.gov
SUMMARY:Dr. Hewitt
DESCRIPTION:
URL:https://kanecountyhospitalut.gov/event/orthopedic-surgeon-2/2028-03-09/
LOCATION:KCH Specialty Clinic\, 355 Main St\, Kanab\, UT 84741\, Kanab\, UT\, 84741\, United States
CATEGORIES:Recurring,Surgery,Visiting Physicians
ATTACH;FMTTYPE=image/webp:https://kanecountyhospitalut.gov/wp-content/uploads/2023/07/1c6c13_dffc1c4d5d9840209c2123ea2b0292b0mv2.webp
ORGANIZER;CN="KCH Specialty Group":MAILTO:specialtygroup@kchosp.net
END:VEVENT
BEGIN:VEVENT
DTSTART;TZID=UTC:20280413T080000
DTEND;TZID=UTC:20280413T170000
DTSTAMP:20260424T221343
CREATED:20231017T012115Z
LAST-MODIFIED:20251023T173450Z
UID:10000055-1839225600-1839258000@kanecountyhospitalut.gov
SUMMARY:Dr. Hewitt
DESCRIPTION:
URL:https://kanecountyhospitalut.gov/event/orthopedic-surgeon-2/2028-04-13/
LOCATION:KCH Specialty Clinic\, 355 Main St\, Kanab\, UT 84741\, Kanab\, UT\, 84741\, United States
CATEGORIES:Recurring,Surgery,Visiting Physicians
ATTACH;FMTTYPE=image/webp:https://kanecountyhospitalut.gov/wp-content/uploads/2023/07/1c6c13_dffc1c4d5d9840209c2123ea2b0292b0mv2.webp
ORGANIZER;CN="KCH Specialty Group":MAILTO:specialtygroup@kchosp.net
END:VEVENT
BEGIN:VEVENT
DTSTART;TZID=UTC:20280511T080000
DTEND;TZID=UTC:20280511T170000
DTSTAMP:20260424T221344
CREATED:20231017T012115Z
LAST-MODIFIED:20251023T173450Z
UID:10000056-1841644800-1841677200@kanecountyhospitalut.gov
SUMMARY:Dr. Hewitt
DESCRIPTION:
URL:https://kanecountyhospitalut.gov/event/orthopedic-surgeon-2/2028-05-11/
LOCATION:KCH Specialty Clinic\, 355 Main St\, Kanab\, UT 84741\, Kanab\, UT\, 84741\, United States
CATEGORIES:Recurring,Surgery,Visiting Physicians
ATTACH;FMTTYPE=image/webp:https://kanecountyhospitalut.gov/wp-content/uploads/2023/07/1c6c13_dffc1c4d5d9840209c2123ea2b0292b0mv2.webp
ORGANIZER;CN="KCH Specialty Group":MAILTO:specialtygroup@kchosp.net
END:VEVENT
BEGIN:VEVENT
DTSTART;TZID=UTC:20280608T080000
DTEND;TZID=UTC:20280608T170000
DTSTAMP:20260424T221344
CREATED:20231017T012115Z
LAST-MODIFIED:20251023T173450Z
UID:10000057-1844064000-1844096400@kanecountyhospitalut.gov
SUMMARY:Dr. Hewitt
DESCRIPTION:
URL:https://kanecountyhospitalut.gov/event/orthopedic-surgeon-2/2028-06-08/
LOCATION:KCH Specialty Clinic\, 355 Main St\, Kanab\, UT 84741\, Kanab\, UT\, 84741\, United States
CATEGORIES:Recurring,Surgery,Visiting Physicians
ATTACH;FMTTYPE=image/webp:https://kanecountyhospitalut.gov/wp-content/uploads/2023/07/1c6c13_dffc1c4d5d9840209c2123ea2b0292b0mv2.webp
ORGANIZER;CN="KCH Specialty Group":MAILTO:specialtygroup@kchosp.net
END:VEVENT
BEGIN:VEVENT
DTSTART;TZID=UTC:20280713T080000
DTEND;TZID=UTC:20280713T170000
DTSTAMP:20260424T221344
CREATED:20231017T012115Z
LAST-MODIFIED:20251023T173450Z
UID:10000058-1847088000-1847120400@kanecountyhospitalut.gov
SUMMARY:Dr. Hewitt
DESCRIPTION:
URL:https://kanecountyhospitalut.gov/event/orthopedic-surgeon-2/2028-07-13/
LOCATION:KCH Specialty Clinic\, 355 Main St\, Kanab\, UT 84741\, Kanab\, UT\, 84741\, United States
CATEGORIES:Recurring,Surgery,Visiting Physicians
ATTACH;FMTTYPE=image/webp:https://kanecountyhospitalut.gov/wp-content/uploads/2023/07/1c6c13_dffc1c4d5d9840209c2123ea2b0292b0mv2.webp
ORGANIZER;CN="KCH Specialty Group":MAILTO:specialtygroup@kchosp.net
END:VEVENT
BEGIN:VEVENT
DTSTART;TZID=UTC:20280810T080000
DTEND;TZID=UTC:20280810T170000
DTSTAMP:20260424T221344
CREATED:20231017T012115Z
LAST-MODIFIED:20251023T173450Z
UID:10000059-1849507200-1849539600@kanecountyhospitalut.gov
SUMMARY:Dr. Hewitt
DESCRIPTION:
URL:https://kanecountyhospitalut.gov/event/orthopedic-surgeon-2/2028-08-10/
LOCATION:KCH Specialty Clinic\, 355 Main St\, Kanab\, UT 84741\, Kanab\, UT\, 84741\, United States
CATEGORIES:Recurring,Surgery,Visiting Physicians
ATTACH;FMTTYPE=image/webp:https://kanecountyhospitalut.gov/wp-content/uploads/2023/07/1c6c13_dffc1c4d5d9840209c2123ea2b0292b0mv2.webp
ORGANIZER;CN="KCH Specialty Group":MAILTO:specialtygroup@kchosp.net
END:VEVENT
BEGIN:VEVENT
DTSTART;TZID=UTC:20280914T080000
DTEND;TZID=UTC:20280914T170000
DTSTAMP:20260424T221344
CREATED:20231017T012115Z
LAST-MODIFIED:20251023T173450Z
UID:10000060-1852531200-1852563600@kanecountyhospitalut.gov
SUMMARY:Dr. Hewitt
DESCRIPTION:
URL:https://kanecountyhospitalut.gov/event/orthopedic-surgeon-2/2028-09-14/
LOCATION:KCH Specialty Clinic\, 355 Main St\, Kanab\, UT 84741\, Kanab\, UT\, 84741\, United States
CATEGORIES:Recurring,Surgery,Visiting Physicians
ATTACH;FMTTYPE=image/webp:https://kanecountyhospitalut.gov/wp-content/uploads/2023/07/1c6c13_dffc1c4d5d9840209c2123ea2b0292b0mv2.webp
ORGANIZER;CN="KCH Specialty Group":MAILTO:specialtygroup@kchosp.net
END:VEVENT
BEGIN:VEVENT
DTSTART;TZID=UTC:20281012T080000
DTEND;TZID=UTC:20281012T170000
DTSTAMP:20260424T221344
CREATED:20231017T012115Z
LAST-MODIFIED:20251023T173450Z
UID:10000182-1854950400-1854982800@kanecountyhospitalut.gov
SUMMARY:Dr. Hewitt
DESCRIPTION:
URL:https://kanecountyhospitalut.gov/event/orthopedic-surgeon-2/2028-10-12/
LOCATION:KCH Specialty Clinic\, 355 Main St\, Kanab\, UT 84741\, Kanab\, UT\, 84741\, United States
CATEGORIES:Recurring,Surgery,Visiting Physicians
ATTACH;FMTTYPE=image/webp:https://kanecountyhospitalut.gov/wp-content/uploads/2023/07/1c6c13_dffc1c4d5d9840209c2123ea2b0292b0mv2.webp
ORGANIZER;CN="KCH Specialty Group":MAILTO:specialtygroup@kchosp.net
END:VEVENT
BEGIN:VEVENT
DTSTART;TZID=UTC:20281109T080000
DTEND;TZID=UTC:20281109T170000
DTSTAMP:20260424T221344
CREATED:20231017T012115Z
LAST-MODIFIED:20251023T173450Z
UID:10000665-1857369600-1857402000@kanecountyhospitalut.gov
SUMMARY:Dr. Hewitt
DESCRIPTION:
URL:https://kanecountyhospitalut.gov/event/orthopedic-surgeon-2/2028-11-09/
LOCATION:KCH Specialty Clinic\, 355 Main St\, Kanab\, UT 84741\, Kanab\, UT\, 84741\, United States
CATEGORIES:Recurring,Surgery,Visiting Physicians
ATTACH;FMTTYPE=image/webp:https://kanecountyhospitalut.gov/wp-content/uploads/2023/07/1c6c13_dffc1c4d5d9840209c2123ea2b0292b0mv2.webp
ORGANIZER;CN="KCH Specialty Group":MAILTO:specialtygroup@kchosp.net
END:VEVENT
BEGIN:VEVENT
DTSTART;TZID=UTC:20281214T080000
DTEND;TZID=UTC:20281214T170000
DTSTAMP:20260424T221344
CREATED:20231017T012115Z
LAST-MODIFIED:20251023T173450Z
UID:10000666-1860393600-1860426000@kanecountyhospitalut.gov
SUMMARY:Dr. Hewitt
DESCRIPTION:
URL:https://kanecountyhospitalut.gov/event/orthopedic-surgeon-2/2028-12-14/
LOCATION:KCH Specialty Clinic\, 355 Main St\, Kanab\, UT 84741\, Kanab\, UT\, 84741\, United States
CATEGORIES:Recurring,Surgery,Visiting Physicians
ATTACH;FMTTYPE=image/webp:https://kanecountyhospitalut.gov/wp-content/uploads/2023/07/1c6c13_dffc1c4d5d9840209c2123ea2b0292b0mv2.webp
ORGANIZER;CN="KCH Specialty Group":MAILTO:specialtygroup@kchosp.net
END:VEVENT
BEGIN:VEVENT
DTSTART;TZID=UTC:20290111T080000
DTEND;TZID=UTC:20290111T170000
DTSTAMP:20260424T221344
CREATED:20231017T012115Z
LAST-MODIFIED:20251023T173450Z
UID:10000667-1862812800-1862845200@kanecountyhospitalut.gov
SUMMARY:Dr. Hewitt
DESCRIPTION:
URL:https://kanecountyhospitalut.gov/event/orthopedic-surgeon-2/2029-01-11/
LOCATION:KCH Specialty Clinic\, 355 Main St\, Kanab\, UT 84741\, Kanab\, UT\, 84741\, United States
CATEGORIES:Recurring,Surgery,Visiting Physicians
ATTACH;FMTTYPE=image/webp:https://kanecountyhospitalut.gov/wp-content/uploads/2023/07/1c6c13_dffc1c4d5d9840209c2123ea2b0292b0mv2.webp
ORGANIZER;CN="KCH Specialty Group":MAILTO:specialtygroup@kchosp.net
END:VEVENT
BEGIN:VEVENT
DTSTART;TZID=UTC:20290208T080000
DTEND;TZID=UTC:20290208T170000
DTSTAMP:20260424T221344
CREATED:20231017T012115Z
LAST-MODIFIED:20251023T173450Z
UID:10000668-1865232000-1865264400@kanecountyhospitalut.gov
SUMMARY:Dr. Hewitt
DESCRIPTION:
URL:https://kanecountyhospitalut.gov/event/orthopedic-surgeon-2/2029-02-08/
LOCATION:KCH Specialty Clinic\, 355 Main St\, Kanab\, UT 84741\, Kanab\, UT\, 84741\, United States
CATEGORIES:Recurring,Surgery,Visiting Physicians
ATTACH;FMTTYPE=image/webp:https://kanecountyhospitalut.gov/wp-content/uploads/2023/07/1c6c13_dffc1c4d5d9840209c2123ea2b0292b0mv2.webp
ORGANIZER;CN="KCH Specialty Group":MAILTO:specialtygroup@kchosp.net
END:VEVENT
BEGIN:VEVENT
DTSTART;TZID=UTC:20290308T080000
DTEND;TZID=UTC:20290308T170000
DTSTAMP:20260424T221344
CREATED:20231017T012115Z
LAST-MODIFIED:20251023T173450Z
UID:10000669-1867651200-1867683600@kanecountyhospitalut.gov
SUMMARY:Dr. Hewitt
DESCRIPTION:
URL:https://kanecountyhospitalut.gov/event/orthopedic-surgeon-2/2029-03-08/
LOCATION:KCH Specialty Clinic\, 355 Main St\, Kanab\, UT 84741\, Kanab\, UT\, 84741\, United States
CATEGORIES:Recurring,Surgery,Visiting Physicians
ATTACH;FMTTYPE=image/webp:https://kanecountyhospitalut.gov/wp-content/uploads/2023/07/1c6c13_dffc1c4d5d9840209c2123ea2b0292b0mv2.webp
ORGANIZER;CN="KCH Specialty Group":MAILTO:specialtygroup@kchosp.net
END:VEVENT
BEGIN:VEVENT
DTSTART;TZID=UTC:20290412T080000
DTEND;TZID=UTC:20290412T170000
DTSTAMP:20260424T221344
CREATED:20231017T012115Z
LAST-MODIFIED:20251023T173450Z
UID:10000681-1870675200-1870707600@kanecountyhospitalut.gov
SUMMARY:Dr. Hewitt
DESCRIPTION:
URL:https://kanecountyhospitalut.gov/event/orthopedic-surgeon-2/2029-04-12/
LOCATION:KCH Specialty Clinic\, 355 Main St\, Kanab\, UT 84741\, Kanab\, UT\, 84741\, United States
CATEGORIES:Recurring,Surgery,Visiting Physicians
ATTACH;FMTTYPE=image/webp:https://kanecountyhospitalut.gov/wp-content/uploads/2023/07/1c6c13_dffc1c4d5d9840209c2123ea2b0292b0mv2.webp
ORGANIZER;CN="KCH Specialty Group":MAILTO:specialtygroup@kchosp.net
END:VEVENT
BEGIN:VEVENT
DTSTART;TZID=UTC:20290510T080000
DTEND;TZID=UTC:20290510T170000
DTSTAMP:20260424T221344
CREATED:20231017T012115Z
LAST-MODIFIED:20251023T173450Z
UID:10000684-1873094400-1873126800@kanecountyhospitalut.gov
SUMMARY:Dr. Hewitt
DESCRIPTION:
URL:https://kanecountyhospitalut.gov/event/orthopedic-surgeon-2/2029-05-10/
LOCATION:KCH Specialty Clinic\, 355 Main St\, Kanab\, UT 84741\, Kanab\, UT\, 84741\, United States
CATEGORIES:Recurring,Surgery,Visiting Physicians
ATTACH;FMTTYPE=image/webp:https://kanecountyhospitalut.gov/wp-content/uploads/2023/07/1c6c13_dffc1c4d5d9840209c2123ea2b0292b0mv2.webp
ORGANIZER;CN="KCH Specialty Group":MAILTO:specialtygroup@kchosp.net
END:VEVENT
BEGIN:VEVENT
DTSTART;TZID=UTC:20290614T080000
DTEND;TZID=UTC:20290614T170000
DTSTAMP:20260424T221344
CREATED:20231017T012115Z
LAST-MODIFIED:20251023T173450Z
UID:10000700-1876118400-1876150800@kanecountyhospitalut.gov
SUMMARY:Dr. Hewitt
DESCRIPTION:
URL:https://kanecountyhospitalut.gov/event/orthopedic-surgeon-2/2029-06-14/
LOCATION:KCH Specialty Clinic\, 355 Main St\, Kanab\, UT 84741\, Kanab\, UT\, 84741\, United States
CATEGORIES:Recurring,Surgery,Visiting Physicians
ATTACH;FMTTYPE=image/webp:https://kanecountyhospitalut.gov/wp-content/uploads/2023/07/1c6c13_dffc1c4d5d9840209c2123ea2b0292b0mv2.webp
ORGANIZER;CN="KCH Specialty Group":MAILTO:specialtygroup@kchosp.net
END:VEVENT
BEGIN:VEVENT
DTSTART;TZID=UTC:20290712T080000
DTEND;TZID=UTC:20290712T170000
DTSTAMP:20260424T221344
CREATED:20231017T012115Z
LAST-MODIFIED:20251023T173450Z
UID:10000709-1878537600-1878570000@kanecountyhospitalut.gov
SUMMARY:Dr. Hewitt
DESCRIPTION:
URL:https://kanecountyhospitalut.gov/event/orthopedic-surgeon-2/2029-07-12/
LOCATION:KCH Specialty Clinic\, 355 Main St\, Kanab\, UT 84741\, Kanab\, UT\, 84741\, United States
CATEGORIES:Recurring,Surgery,Visiting Physicians
ATTACH;FMTTYPE=image/webp:https://kanecountyhospitalut.gov/wp-content/uploads/2023/07/1c6c13_dffc1c4d5d9840209c2123ea2b0292b0mv2.webp
ORGANIZER;CN="KCH Specialty Group":MAILTO:specialtygroup@kchosp.net
END:VEVENT
BEGIN:VEVENT
DTSTART;TZID=UTC:20290809T080000
DTEND;TZID=UTC:20290809T170000
DTSTAMP:20260424T221344
CREATED:20231017T012115Z
LAST-MODIFIED:20251023T173450Z
UID:10000714-1880956800-1880989200@kanecountyhospitalut.gov
SUMMARY:Dr. Hewitt
DESCRIPTION:
URL:https://kanecountyhospitalut.gov/event/orthopedic-surgeon-2/2029-08-09/
LOCATION:KCH Specialty Clinic\, 355 Main St\, Kanab\, UT 84741\, Kanab\, UT\, 84741\, United States
CATEGORIES:Recurring,Surgery,Visiting Physicians
ATTACH;FMTTYPE=image/webp:https://kanecountyhospitalut.gov/wp-content/uploads/2023/07/1c6c13_dffc1c4d5d9840209c2123ea2b0292b0mv2.webp
ORGANIZER;CN="KCH Specialty Group":MAILTO:specialtygroup@kchosp.net
END:VEVENT
BEGIN:VEVENT
DTSTART;TZID=UTC:20290913T080000
DTEND;TZID=UTC:20290913T170000
DTSTAMP:20260424T221344
CREATED:20231017T012115Z
LAST-MODIFIED:20251023T173450Z
UID:10000724-1883980800-1884013200@kanecountyhospitalut.gov
SUMMARY:Dr. Hewitt
DESCRIPTION:
URL:https://kanecountyhospitalut.gov/event/orthopedic-surgeon-2/2029-09-13/
LOCATION:KCH Specialty Clinic\, 355 Main St\, Kanab\, UT 84741\, Kanab\, UT\, 84741\, United States
CATEGORIES:Recurring,Surgery,Visiting Physicians
ATTACH;FMTTYPE=image/webp:https://kanecountyhospitalut.gov/wp-content/uploads/2023/07/1c6c13_dffc1c4d5d9840209c2123ea2b0292b0mv2.webp
ORGANIZER;CN="KCH Specialty Group":MAILTO:specialtygroup@kchosp.net
END:VEVENT
BEGIN:VEVENT
DTSTART;TZID=UTC:20291011T080000
DTEND;TZID=UTC:20291011T170000
DTSTAMP:20260424T221344
CREATED:20231017T012115Z
LAST-MODIFIED:20251023T173450Z
UID:10000730-1886400000-1886432400@kanecountyhospitalut.gov
SUMMARY:Dr. Hewitt
DESCRIPTION:
URL:https://kanecountyhospitalut.gov/event/orthopedic-surgeon-2/2029-10-11/
LOCATION:KCH Specialty Clinic\, 355 Main St\, Kanab\, UT 84741\, Kanab\, UT\, 84741\, United States
CATEGORIES:Recurring,Surgery,Visiting Physicians
ATTACH;FMTTYPE=image/webp:https://kanecountyhospitalut.gov/wp-content/uploads/2023/07/1c6c13_dffc1c4d5d9840209c2123ea2b0292b0mv2.webp
ORGANIZER;CN="KCH Specialty Group":MAILTO:specialtygroup@kchosp.net
END:VEVENT
END:VCALENDAR